BEGIN:VCALENDAR
VERSION:2.0
PRODID:-//Pifaa - ECPv6.13.2.1//NONSGML v1.0//EN
CALSCALE:GREGORIAN
METHOD:PUBLISH
X-WR-CALNAME:Pifaa
X-ORIGINAL-URL:https://pifaa.org
X-WR-CALDESC:Events for Pifaa
REFRESH-INTERVAL;VALUE=DURATION:PT1H
X-Robots-Tag:noindex
X-PUBLISHED-TTL:PT1H
BEGIN:VTIMEZONE
TZID:UTC
BEGIN:STANDARD
TZOFFSETFROM:+0000
TZOFFSETTO:+0000
TZNAME:UTC
DTSTART:20230101T000000
END:STANDARD
END:VTIMEZONE
BEGIN:VEVENT
DTSTART;TZID=UTC:20241018T080000
DTEND;TZID=UTC:20241018T170000
DTSTAMP:20260423T180754
CREATED:20241004T095130Z
LAST-MODIFIED:20241004T104328Z
UID:24597-1729238400-1729270800@pifaa.org
SUMMARY:PIFAA Smart Money Seminar 2024 scheduled on Friday\, 18th October 2024
DESCRIPTION:
URL:https://pifaa.org/event/pifaa-smart-money-seminar-2024-scheduled-on-friday-18th-october-2024/
LOCATION:Ganesh Sabhagruh\, New English School\, Tilak Road\, Pune 411030\, Ganesh Sabhagruh\, New English School\, Tilak Road\, Pune 411030\, Pune\, 411030\, India
ATTACH;FMTTYPE=image/jpeg:https://pifaa.org/wp-content/uploads/2023/10/ARV_8664.jpg
END:VEVENT
BEGIN:VEVENT
DTSTART;TZID=UTC:20240309T171500
DTEND;TZID=UTC:20240309T193000
DTSTAMP:20260423T180754
CREATED:20240222T074714Z
LAST-MODIFIED:20240312T095634Z
UID:24560-1710004500-1710012600@pifaa.org
SUMMARY:PIFAA: SMART MONEY SEMINAR-9th March 2024
DESCRIPTION:PIFAA: SMART MONEY SEMINAR – 9th March 2024 \nDate: Saturday\, 9th March 2024\nTime: 5.15 PM to 7.30 PM [Followed by Dinner]\nVenue: Ga.Di.Madgulkar Sabhagruha\, Pradhikaran\, Nigdi\, Pimpri-Chinchwad\, Maharashtra 411044\nLandmark – Near Sambhaji Chowk\, Akurdi – Chikhali Road
URL:https://pifaa.org/event/pifaa-smart-money-seminar/
LOCATION:Ga.Di.Madgulkar Sabhagruha\, Pradhikaran\, Nigdi\, Pimpri-Chinchwad\, Maharashtra 411044\, Ga.Di.Madgulkar Sabhagruha\, Pradhikaran\, Nigdi\, Pimpri-Chinchwad\,\, Pune\, Maharashtra\, 411044\, India
ATTACH;FMTTYPE=image/jpeg:https://pifaa.org/wp-content/uploads/2023/10/ARV_8667.jpg
END:VEVENT
BEGIN:VEVENT
DTSTART;TZID=UTC:20240106T173000
DTEND;TZID=UTC:20240106T193000
DTSTAMP:20260423T180754
CREATED:20231124T120409Z
LAST-MODIFIED:20240110T110346Z
UID:24226-1704562200-1704569400@pifaa.org
SUMMARY:PIFAA Smart Money 2024 - Investor Awareness Program
DESCRIPTION:PIFAA: SMART MONEY SEMINAR – 6th January 2024 \nDate: Saturday\, 6th January 2024\nTime: 5.30 PM to 7.30 PM [Followed by Dinner]\nVenue: Karnataka Highschool\, Mehendale Garage Road\, Near Abhishek Hotel\, Erandwane\, Pune\, Maharashtra 411004. \nSponsored by – UTI Mutual Fund\, ICICI Prudential Mutual Fund & Mahindra Manulife Mutual Fund
URL:https://pifaa.org/event/pifaa-smart-money-2024-investor-awareness-program/
LOCATION:Dr. Kalmadi Shamarao High School and Jr. College\, Dr. Kalmadi Shamarao High School and Jr. College\, Mehendale Garage Road\, Near Abhishek Hotel\, Erandwane\,\, Pune\, Maharashtra\, 411004\, India
ATTACH;FMTTYPE=image/jpeg:https://pifaa.org/wp-content/uploads/2023/11/smart-money-2024-e1703243051168.jpeg
END:VEVENT
BEGIN:VEVENT
DTSTART;TZID=UTC:20231206T173000
DTEND;TZID=UTC:20231206T203000
DTSTAMP:20260423T180754
CREATED:20231106T013115Z
LAST-MODIFIED:20231124T124928Z
UID:1204-1701883800-1701894600@pifaa.org
SUMMARY:Achievers of 100 Crore Plus AUM
DESCRIPTION:An evening to honor the MFDs from the fraternity who have achieved a milestone of Mutual Fund AUM exceeding 100 crores.
URL:https://pifaa.org/event/achievers-of-100-crore-plus-aum/
LOCATION:Ganesh Sabhagruh\, New English School\, Tilak Road\, Pune 411030\, Ganesh Sabhagruh\, New English School\, Tilak Road\, Pune 411030\, Pune\, 411030\, India
ATTACH;FMTTYPE=image/jpeg:https://pifaa.org/wp-content/uploads/2023/10/ARV_8531.jpg
END:VEVENT
END:VCALENDAR